BEGIN:VCALENDAR
VERSION:2.0
PRODID:-//ChamberMaster//Event Calendar 2.0//EN
METHOD:PUBLISH
X-PUBLISHED-TTL:P3D
REFRESH-INTERVAL:P3D
CALSCALE:GREGORIAN
BEGIN:VEVENT
DTSTART:20230413T133000Z
DTEND:20230413T143000Z
X-MICROSOFT-CDO-ALLDAYEVENT:FALSE
SUMMARY:Biz Connections | Member Meet Up
DESCRIPTION:Business connections and introductions begin with the Chamber.\n\n\n\nFun\, casual networking\, open house and\, coffee sponsored by Total Coverage Cleaning. Total Coverage provides a wide array of commercial and residential cleaning services including construction cleaning. Hear more about them at the event\, plus our Chamber Ambassadors will be on hand to help make introductions\, so bring your business cards and stop by to meet other members for some one-on-one networking time.
X-ALT-DESC;FMTTYPE=text/html:<strong style="font-family: arial\; font-size: 16px\;">Business connections and introductions begin with the Chamber.</strong><br />\n<br />\n<span style="font-size:16px\;"><span style="font-family:arial\;">Fun\, casual networking\, open house and\,&nbsp\;<strong>coffee sponsored by Total Coverage Cleaning</strong>. Total Coverage provides a wide array of commercial and residential cleaning services including construction cleaning. Hear more about them at the event\, plus o</span></span><span style="font-family: arial\; font-size: 16px\;">ur Chamber Ambassadors will be on hand to help make introductions</span><span style="font-size:16px\;"><span style="font-family:arial\;">\, so bring your business cards and stop by to meet other members for some one-on-one networking time.&nbsp\;</span></span>
LOCATION:Chamber Office
UID:e.789.8101
SEQUENCE:3
DTSTAMP:20260420T144437Z
URL:https://cm.livingstonparishchamber.org/events/details/biz-connections-member-meet-up-8101
END:VEVENT

END:VCALENDAR
