BEGIN:VCALENDAR
VERSION:2.0
PRODID:-//ChamberMaster//Event Calendar 2.0//EN
METHOD:PUBLISH
X-PUBLISHED-TTL:P3D
REFRESH-INTERVAL:P3D
CALSCALE:GREGORIAN
BEGIN:VEVENT
DTSTART;VALUE=DATE:20261212
DTEND;VALUE=DATE:20261213
TRANSP:TRANSPARENT
X-MICROSOFT-CDO-ALLDAYEVENT:TRUE
SUMMARY:2026 - Livingston Parish Elections - 2026
DESCRIPTION:2026 Livingston Parish Elections - Ballot - Dates \n \n\n\n\nElection:  2026\n\n\n\nDates & Deadlines: 2026\n\nElection Date:   February 7\, 2026 - Special Legislative Primary \n\n\n	No ballot items for Livingston Parish \n\n \n\nElection Date:  March 14\, 2026 - Election / Special Legislative General \n\n\n	No ballot items for Livingston Parish \n\n\n\n\n\n\n\n\n\n\nElection Date:  May 16\, 2026 - Party Primary / Municipal Primary \n\n \n\n\n	\n	Qualifying:  2 / 11 / 2026 - 2 / 13 / 2026\n	\n	\n	 Early Voting - May 2\, 2026 - May 9\, 2026\n\n	 \n	\n\n\n Ballot:  \n\n\n	Senator Cassidy \n	Congresswoman Julia Letlow\n	Congressman Steve Scalise \n	Public Service Commissioner - Eric Skrmetta \n\n \n\n\n\n\n\n\nElection Date:  June 27\, 2026 - Party Primary / Municipal General \n\n\n	 \n\n\n\nElection Date:   November 3\, 2026\n\n\n	Early Voting | October 20 - October 27\, 2026\n	Registration Deadline (In-Person/By Mail) | \n	Registration Deadline (Online) | October 13\, 2026\n	Qualifying - July 29 - July 31\, 2026\n\nBallot Items Here :\n\n\n	Senator Cassidy \n	Congresswoman Letlow\n	Congressman Scalise\n	District Attorney \n	Judges - 21st Judicial \n	City Court Judge\n	City Marshal\n	School Board \n	Justice of the Peace\n	Constables\n	Denham Springs Mayor / City Council \n	Albany Mayor / Alderman / Police Chief  \n\n\n\n\n\n\n\nBallot Items Here Once Announced:\n\n\n\n \n\n\nVOTER RESOURCES\n\nPAR\n\nCABL\n\n\n\n\n\nVOTER INFORMATION\n\nQuick Links:\n\n\n	Livingston Parish Voter Guide - including candidate videos \n	Find your SAMPLE BALLOT here\n	Livingston Parish Clerk of Court\n\n\nWhen you go to the polls to cast your vote in an election\, be sure to take one of the following:\n\n\n	Driver's License\n	Louisiana Special ID\n	LA Wallet Digital Driver's License\n	United States Military Identification Card that contains the applicant's name and picture\n	Some other generally recognized picture ID that contains your name and signature\n\nVoters who have no picture ID may complete and sign a Voter Identification Affidavit in order to vote\; however\, it is subject to challenge by law.
X-ALT-DESC;FMTTYPE=text/html:<h1><span style="font-size: 16px\;"><b>2026&nbsp\;Livingston Parish Elections - Ballot - Dates&nbsp\;</b></span></h1>\n&nbsp\;\n\n<hr /><br />\n<span style="font-size: 16px\;"><b>Election:&nbsp\; 2026<br />\n<br />\nDates &amp\; Deadlines: 2026</b></span><br />\n<strong><span style="font-family: arial\;"><span style="font-size: 16px\;">Election Date:&nbsp\;&nbsp\;</span></span></strong><b style="font-size: 16px\;">&nbsp\;February 7\, 2026 - Special Legislative Primary&nbsp\;</b>\n\n<ul>\n	<li><span style="font-family: arial\;"><span style="font-size: 16px\;">No ballot items for Livingston Parish&nbsp\;</span></span></li>\n</ul>\n&nbsp\;\n\n<h3><span style="font-size: 16px\;"><strong>Election Date:&nbsp\; March 14\, 2026 - Election / Special Legislative General&nbsp\;</strong></span></h3>\n\n<ul>\n	<li><span style="font-family: arial\;"><span style="font-size: 16px\;">No ballot items for Livingston Parish&nbsp\;</span></span></li>\n</ul>\n\n<h3><br />\n<br />\n<br />\n<br />\n<span style="font-size: 16px\;"><strong>Election Date:&nbsp\; May 16\, 2026 - Party Primary / Municipal Primary&nbsp\;</strong></span><br />\n&nbsp\;</h3>\n\n<ul>\n	<li>\n	<p><span style="font-size:16px\;">Qualifying:&nbsp\; 2 / 11 / 2026 - 2 / 13 / 2026</span></p>\n	</li>\n	<li>\n	<p><span style="font-size:16px\;">&#8203\;Early Voting - May 2\, 2026 - May 9\, 2026</span><br />\n	&nbsp\;</p>\n	</li>\n</ul>\n\n<h3><span style="font-size:16px\;">&#8203\;Ballot:&nbsp\;&nbsp\;</span></h3>\n\n<ul>\n	<li><span style="font-size:14px\;">Senator Cassidy&nbsp\;</span></li>\n	<li><span style="font-size:14px\;">Congresswoman Julia Letlow</span></li>\n	<li><span style="font-size:14px\;">Congressman Steve Scalise&nbsp\;</span></li>\n	<li><span style="font-size:14px\;">Public Service Commissioner - Eric Skrmetta&nbsp\;</span></li>\n</ul>\n&nbsp\;\n\n<hr />\n<h3><br />\n<br />\n<span style="font-size: 16px\;"><strong>Election Date:&nbsp\; June 27\, 2026 - Party Primary / Municipal General&nbsp\;</strong></span></h3>\n\n<ul>\n	<li>&nbsp\;</li>\n</ul>\n<br />\n<strong><span style="font-family: arial\;"><span style="font-size: 16px\;">Election Date:&nbsp\;&nbsp\;</span></span></strong><b style="font-size: 16px\;">&nbsp\;November 3\, 2026</b>\n\n<ul>\n	<li><span style="font-family: arial\;"><span style="font-size: 16px\;">Early Voting | October 20 - October 27\, 2026</span></span></li>\n	<li><span style="font-family: arial\;"><span style="font-size: 16px\;">Registration Deadline (In-Person/By Mail) |&nbsp\;</span></span></li>\n	<li><span style="font-family: arial\;"><span style="font-size: 16px\;">Registration Deadline (Online) | October 13\, 2026</span></span></li>\n	<li><span style="font-family: arial\;"><span style="font-size: 16px\;">Qualifying - July 29 - July 31\, 2026</span></span></li>\n</ul>\n<strong style="font-family: arial\; font-size: medium\;">Ballot Items Here :</strong>\n\n<ul>\n	<li><strong style="font-family: arial\; font-size: medium\;">Senator Cassidy </strong></li>\n	<li><strong style="font-family: arial\; font-size: medium\;">Congresswoman Letlow</strong></li>\n	<li><strong style="font-family: arial\; font-size: medium\;">Congressman Scalise</strong></li>\n	<li><strong style="font-family: arial\; font-size: medium\;">District Attorney&nbsp\;</strong></li>\n	<li><strong style="font-family: arial\; font-size: medium\;">Judges - 21st Judicial </strong></li>\n	<li><strong style="font-family: arial\; font-size: medium\;">City Court Judge</strong></li>\n	<li><strong style="font-family: arial\; font-size: medium\;">City Marshal</strong></li>\n	<li><strong style="font-family: arial\; font-size: medium\;">School Board </strong></li>\n	<li><strong style="font-family: arial\; font-size: medium\;">Justice of the Peace</strong></li>\n	<li><strong style="font-family: arial\; font-size: medium\;">Constables</strong></li>\n	<li><strong style="font-family: arial\; font-size: medium\;">Denham Springs Mayor / City Council </strong></li>\n	<li><strong style="font-family: arial\; font-size: medium\;">Albany Mayor / Alderman / Police Chief&nbsp\;</strong><strong style="font-family: arial\; font-size: medium\;">&nbsp\;</strong></li>\n</ul>\n<br />\n<br />\n<br />\n<strong style="font-family: arial\; font-size: medium\;">Ballot Items Here Once Announced:</strong><br />\n<br />\n&nbsp\;\n<hr /><br />\n<strong style="font-family: arial\; font-size: medium\;">VOTER RESOURCES<br />\nPAR<br />\nCABL<br />\n<br />\n<br />\nVOTER INFORMATION<br />\nQuick Links:</strong>\n\n<ul>\n	<li><a href="https://myemail.constantcontact.com/Parish-President-Forum-Video-Live.html?soid=1103387863587&amp\;aid=a3IvcXLKrmI"><strong><span style="font-family: arial\; font-size: 14px\;">Livingston Parish Voter Guide - including candidate videos&nbsp\;</span></strong></a></li>\n	<li><span style="font-family: arial\; font-size: 14px\;"><a href="https://voterportal.sos.la.gov/" target="_blank"><strong>Find your SAMPLE BALLOT here</strong></a></span></li>\n	<li><span style="font-family: arial\; font-size: 14px\;"><strong><a href="http://www.livclerk.org/elections/" target="_blank">Livingston Parish Clerk of Court</a></strong></span></li>\n</ul>\n\n<hr /><span style="font-family: arial\;">When you go to the polls to cast your vote in an election\, be sure to take one of the following:</span>\n\n<ul>\n	<li><span style="font-family: arial\;">Driver&#39\;s License</span></li>\n	<li><span style="font-family: arial\;">Louisiana Special ID</span></li>\n	<li><span style="font-family: arial\;">LA Wallet Digital Driver&#39\;s License</span></li>\n	<li><span style="font-family: arial\;">United States Military Identification Card that contains the applicant&#39\;s name and picture</span></li>\n	<li><span style="font-family: arial\;">Some other generally recognized picture ID that contains your name and signature</span></li>\n</ul>\n<span style="font-family: arial\;">Voters who have no picture ID may complete and sign a Voter Identification Affidavit in order to vote\; however\, it is subject to challenge by law.</span>
LOCATION:
UID:e.789.8724
SEQUENCE:3
DTSTAMP:20260423T171605Z
URL:https://cm.livingstonparishchamber.org/events/details/2026-livingston-parish-elections-2026-8724
END:VEVENT

END:VCALENDAR
